BEGIN:VCALENDAR
X-WR-TIMEZONE:Europe/Berlin
X-WR-CALNAME:rbb-Kalender
VERSION:2.0
METHOD:PUBLISH
CALSCALE:GREGORIAN
PRODID:rbb-CMS DAY
BEGIN:VEVENT
CLASS:PUBLIC
URL:http://www.rbb-online.de/content/rbb/rbb/zibb/archiv/20131212_1830/willybrandt.html
DTEND:20131212T192500
DTSTART:20131212T183000
UID:/content/rbb/rbb/zibb/archiv/20131212_1830/willybrandt
DTSTAMP:20140406T221449
DESCRIPTION:Willy Brandt wäre in knapp einer Woche 100 Jahre alt geworden. Aus diesem Anlass fand am Donnerstag im Neuen Stadthaus Berlin die Uraufführung des Theaterstücks "Willy 100 - Im Zweifel für die Freiheit" statt.\n\n\n
SUMMARY:Willy Brandt zum 100.
END:VEVENT
END:VCALENDAR
