BEGIN:VCALENDAR
X-WR-TIMEZONE:Europe/Berlin
X-WR-CALNAME:rbb-Kalender
VERSION:2.0
METHOD:PUBLISH
CALSCALE:GREGORIAN
PRODID:rbb-CMS DAY
BEGIN:VEVENT
CLASS:PUBLIC
URL:http://www.rbb-online.de/content/rbb/rbb/zibb/archiv/20131213_1830/dit-war-dit.html
DTEND:20131213T192500
DTSTART:20131213T183000
UID:/content/rbb/rbb/zibb/archiv/20131213_1830/dit-war-dit
DTSTAMP:20140406T232721
DESCRIPTION:Angesichts der nahenden Feiertage sprechen viele gern vom drohenden nahen Ende. Aber kommt es wirklich noch dicke zum Jahreswechsel? zibb hat das "Dit war dit"-Orakel befragt.\n\n\n
SUMMARY:Dit war dit
END:VEVENT
END:VCALENDAR
