BEGIN:VCALENDAR
X-WR-TIMEZONE:Europe/Berlin
X-WR-CALNAME:rbb-Kalender
VERSION:2.0
METHOD:PUBLISH
CALSCALE:GREGORIAN
PRODID:rbb-CMS DAY
BEGIN:VEVENT
CLASS:PUBLIC
URL:http://www.rbb-online.de/content/rbb/rbb/zibb/archiv/20131213_1830/schlossinsel-koepenick.html
DTEND:20131213T192500
DTSTART:20131213T183000
UID:/content/rbb/rbb/zibb/archiv/20131213_1830/schlossinsel-koepenick
DTSTAMP:20140406T232603
DESCRIPTION:zibb meldet sich live vom festlich illuminierten Barockensemble der Schlossinsel Köpenick, wo an diesem Wochenende einer der schönsten Weihnachtsmärkte Berlins öffnet.\n\n\n
SUMMARY:Weihnachtsmarkt auf der Schlossinsel Köpenick
END:VEVENT
END:VCALENDAR
