BEGIN:VCALENDAR
X-WR-TIMEZONE:Europe/Berlin
X-WR-CALNAME:rbb-Kalender
VERSION:2.0
METHOD:PUBLISH
CALSCALE:GREGORIAN
PRODID:rbb-CMS DAY
BEGIN:VEVENT
CLASS:PUBLIC
URL:http://www.rbb-online.de/content/rbb/rbb/zibb/archiv/20131213_1830/schutzhunde-gegen-woelfe.html
DTEND:20131213T192500
DTSTART:20131213T183000
UID:/content/rbb/rbb/zibb/archiv/20131213_1830/schutzhunde-gegen-woelfe
DTSTAMP:20140406T232639
DESCRIPTION:Jedes Jahr reißen Wölfe in Brandenburg etwa 50 Schafe. Die Verluste tun den Schäfern weh, sie wollen ihre Herden deshalb besser schützen. Aber wie? Das wirksamste Mittel scheinen die richtigen Hunde zu sein. zibb hat sich mit einem Schäfer unterhalten.\n\n\n
SUMMARY:Schutzhunde gegen Wölfe
END:VEVENT
END:VCALENDAR
