BEGIN:VCALENDAR
X-WR-TIMEZONE:Europe/Berlin
X-WR-CALNAME:rbb-Kalender
VERSION:2.0
METHOD:PUBLISH
CALSCALE:GREGORIAN
PRODID:rbb-CMS DAY
BEGIN:VEVENT
CLASS:PUBLIC
URL:http://www.rbb-online.de/content/rbb/rbb/zibb/archiv/20131213_1830/tiergeschichten-am-samstag.html
DTEND:20131213T192500
DTSTART:20131213T183000
UID:/content/rbb/rbb/zibb/archiv/20131213_1830/tiergeschichten-am-samstag
DTSTAMP:20140406T232707
DESCRIPTION:Im Rahmen unserer Advents-Aktion zeigt das rbb Fernsehen an diesem Samstag fünf Tierfilme, wie sie unterschiedlicher nicht sein könnten. Durch das Programm führt Attila Weidemann. zibb stellt die Filme vor.\n\n\n
SUMMARY:Tiergeschichten am Samstag
END:VEVENT
END:VCALENDAR
