BEGIN:VCALENDAR
X-WR-TIMEZONE:Europe/Berlin
X-WR-CALNAME:rbb-Kalender
VERSION:2.0
METHOD:PUBLISH
CALSCALE:GREGORIAN
PRODID:rbb-CMS DAY
BEGIN:VEVENT
CLASS:PUBLIC
URL:http://www.rbb-online.de/content/rbb/rbb/zibb/archiv/20131216_1830/medicus.html
DTEND:20131216T192500
DTSTART:20131216T183000
UID:/content/rbb/rbb/zibb/archiv/20131216_1830/medicus
DTSTAMP:20140406T225605
DESCRIPTION:Noah Gordons "Der Medicus" gehörte zu den wenigen großen unverfilmten Historienromanen der letzten Jahrzehnte. Der Bestseller verkaufte sich allein in Deutschland sechs Millionen Mal. Nun kommt die Verfilmung in die Kinos. Am Montag feierte sie am Potsdamer Platz Premiere.\n
SUMMARY:Premiere von "Der Medicus"
END:VEVENT
END:VCALENDAR
