BEGIN:VCALENDAR
X-WR-TIMEZONE:Europe/Berlin
X-WR-CALNAME:rbb-Kalender
VERSION:2.0
METHOD:PUBLISH
CALSCALE:GREGORIAN
PRODID:rbb-CMS DAY
BEGIN:VEVENT
CLASS:PUBLIC
URL:http://www.rbb-online.de/content/rbb/rbb/zibb/archiv/20131216_1830/turnen.html
DTEND:20131216T192500
DTSTART:20131216T183000
UID:/content/rbb/rbb/zibb/archiv/20131216_1830/turnen
DTSTAMP:20140406T225626
DESCRIPTION:Das Theater am Potsdamer Platz verwandelte sich am Montag in eine große Show- und Turn-Arena. Die besten Gruppen des Berliner Turn- und Freizeitsportbundes wollten gemeinsam mit der Queen-Coverband "Unique" und dem Queen-Musical-Darsteller Sascha Lien die Bühne rocken.\n\n\n
SUMMARY:Turnen und Rock´n´ Roll
END:VEVENT
END:VCALENDAR
