BEGIN:VCALENDAR
X-WR-TIMEZONE:Europe/Berlin
X-WR-CALNAME:rbb-Kalender
VERSION:2.0
METHOD:PUBLISH
CALSCALE:GREGORIAN
PRODID:rbb-CMS DAY
BEGIN:VEVENT
CLASS:PUBLIC
URL:http://www.rbb-online.de/content/rbb/rbb/zibb/archiv/20131217_1830/delta-bowling.html
DTEND:20131217T192500
DTSTART:20131217T183000
UID:/content/rbb/rbb/zibb/archiv/20131217_1830/delta-bowling
DTSTAMP:20140407T003956
DESCRIPTION:In Brandenburg an der Havel ist das gelungen, wovon man in Berlin nur träumen kann: Ein Flughafenbau wurde innerhalb von nur vier Monaten fertiggestellt – naja, zumindest ein Bau im Stil eines Airports: Das Freizeitzentrum "Delta Bowling" ist von Grund auf umgebaut und wieder eröffnet worden.\n
SUMMARY:Delta-Bowling in Brandenburg
END:VEVENT
END:VCALENDAR
