BEGIN:VCALENDAR
X-WR-TIMEZONE:Europe/Berlin
X-WR-CALNAME:rbb-Kalender
VERSION:2.0
METHOD:PUBLISH
CALSCALE:GREGORIAN
PRODID:rbb-CMS DAY
BEGIN:VEVENT
CLASS:PUBLIC
URL:http://www.rbb-online.de/content/rbb/rbb/zibb/archiv/20131217_1830/dosen-aus-holz.html
DTEND:20131217T192500
DTSTART:20131217T183000
UID:/content/rbb/rbb/zibb/archiv/20131217_1830/dosen-aus-holz
DTSTAMP:20140407T003926
DESCRIPTION:Horst Kontak aus Pritzwalk ist eigentlich gelernte Maschinenbauer und baut Dosen aus Holz. Und für die gilt das Sprichwort: was lange währt, wird endlich gut. Der DDR-Holzbildhauer Lüder Baier war 30 Jahre lang sein Wegbegleiter und großes Vorbild. \n
SUMMARY:Dosen aus Holz
END:VEVENT
END:VCALENDAR
