BEGIN:VCALENDAR
X-WR-TIMEZONE:Europe/Berlin
X-WR-CALNAME:rbb-Kalender
VERSION:2.0
METHOD:PUBLISH
CALSCALE:GREGORIAN
PRODID:rbb-CMS DAY
BEGIN:VEVENT
CLASS:PUBLIC
URL:http://www.rbb-online.de/content/rbb/rbb/zibb/archiv/20131218_1830/forellen.html
DTEND:20131218T192500
DTSTART:20131218T183000
UID:/content/rbb/rbb/zibb/archiv/20131218_1830/forellen
DTSTAMP:20140406T231903
DESCRIPTION:\nMatthias Engels hat sieben Jahre lang einen Betrieb gesucht, den er übernehmen kann. Über die Industrie- und Handelskammer ist der 49-Jährige in Rottstock bei Ziesar fündig geworden. Er kaufte eine gut funktionierende Forellenzucht mit sieben Angestellten. Dort haben er und seine Lebensgefährtin Susanne Finsterer ihr Leben nochmal ganz von vorne angefangen.\n\n\n\n
SUMMARY:Forellenhof mit neuem Chef
END:VEVENT
END:VCALENDAR
