BEGIN:VCALENDAR
X-WR-TIMEZONE:Europe/Berlin
X-WR-CALNAME:rbb-Kalender
VERSION:2.0
METHOD:PUBLISH
CALSCALE:GREGORIAN
PRODID:rbb-CMS DAY
BEGIN:VEVENT
CLASS:PUBLIC
URL:http://www.rbb-online.de/content/rbb/rbb/zibb/archiv/20131218_1830/roncalli.html
DTEND:20131218T192500
DTSTART:20131218T183000
UID:/content/rbb/rbb/zibb/archiv/20131218_1830/roncalli
DTSTAMP:20140406T231937
DESCRIPTION:\nZum 10. Mal gastiert der Weihnachtscircus in diesem Jahr im Berliner Tempodrom. Mit dabei wieder ein Staraufgebot an Clownerie und viele Überraschungen. Der Besuch des festlich geschmückten Tempodroms ist für viele inzwischen ein Muss. Morgen ist Galapremiere. Und schon heute ist Catharina Zanner für Sie bei der Voraufführung dabei.\n\n\n\n
SUMMARY:Zehn Jahre Weihnachtszirkus Roncalli
END:VEVENT
END:VCALENDAR
