BEGIN:VCALENDAR
X-WR-TIMEZONE:Europe/Berlin
X-WR-CALNAME:rbb-Kalender
VERSION:2.0
METHOD:PUBLISH
CALSCALE:GREGORIAN
PRODID:rbb-CMS DAY
BEGIN:VEVENT
CLASS:PUBLIC
URL:http://www.rbb-online.de/content/rbb/rbb/zibb/archiv/20131219_1830/20-jahre-aida-night-of-the-proms.html
DTEND:20131219T192500
DTSTART:20131219T183000
UID:/content/rbb/rbb/zibb/archiv/20131219_1830/20-jahre-aida-night-of-the-proms
DTSTAMP:20140406T235125
DESCRIPTION:Amy Macdonald und Morten Harket, Sänger der Popgruppe a-ha, sind die Stars der diesjährigen AIDA Night of the Proms. zibb meldet sich live aus der O2 World, dem Berliner Veranstaltungsort des Musikfestivals.\n\n\n
SUMMARY:20 Jahre AIDA Night of the Proms
END:VEVENT
END:VCALENDAR
