BEGIN:VCALENDAR
X-WR-TIMEZONE:Europe/Berlin
X-WR-CALNAME:rbb-Kalender
VERSION:2.0
METHOD:PUBLISH
CALSCALE:GREGORIAN
PRODID:rbb-CMS DAY
BEGIN:VEVENT
CLASS:PUBLIC
URL:http://www.rbb-online.de/content/rbb/rbb/zibb/archiv/20131219_1830/ballhaus-riviera-verfaellt.html
DTEND:20131219T192500
DTSTART:20131219T183000
UID:/content/rbb/rbb/zibb/archiv/20131219_1830/ballhaus-riviera-verfaellt
DTSTAMP:20140406T235113
DESCRIPTION:Ende des 19. Jahrhunderts errichtete ein Geschäftsmann in Grünau ein Hotel mit Restaurant, das er "Riviera" nannte. Später wurde das Gebäude noch um ein so genanntes Gesellschaftshaus ergänzt. Doch von dem Glanz von damals ist heute nichts mehr geblieben.\n\n\n
SUMMARY:Der Verfall des Riviera
END:VEVENT
END:VCALENDAR
