BEGIN:VCALENDAR
X-WR-TIMEZONE:Europe/Berlin
X-WR-CALNAME:rbb-Kalender
VERSION:2.0
METHOD:PUBLISH
CALSCALE:GREGORIAN
PRODID:rbb-CMS DAY
BEGIN:VEVENT
CLASS:PUBLIC
URL:http://www.rbb-online.de/content/rbb/rbb/zibb/archiv/20131220_1830/kinderarztmangel-ueber-weihnachten.html
DTEND:20131220T192500
DTSTART:20131220T183000
UID:/content/rbb/rbb/zibb/archiv/20131220_1830/kinderarztmangel-ueber-weihnachten
DTSTAMP:20140406T230503
DESCRIPTION:Die Feiertage liegen in diesem Jahr so günstig, dass viele Berliner und Brandenburger durchgehend bis zum Jahresende Urlaub machen werden. Das gilt leider auch für viele Kinderärzte in der Region. Wer in den kommenden Tagen einen Arzt benötigt, wird vielerorts vor verschlossenen Türen stehen.\n\n\n
SUMMARY:Kinderärztemangel über Weihnachten
END:VEVENT
END:VCALENDAR
