BEGIN:VCALENDAR
X-WR-TIMEZONE:Europe/Berlin
X-WR-CALNAME:rbb-Kalender
VERSION:2.0
METHOD:PUBLISH
CALSCALE:GREGORIAN
PRODID:rbb-CMS DAY
BEGIN:VEVENT
CLASS:PUBLIC
URL:http://www.rbb-online.de/content/rbb/rbb/zibb/archiv/20140102_1830/den-wildtieren-auf-der-spur.html
DTEND:20140102T192500
DTSTART:20140102T183000
UID:/content/rbb/rbb/zibb/archiv/20140102_1830/den-wildtieren-auf-der-spur
DTSTAMP:20140406T234731
DESCRIPTION:In Berlin sind SIE die Big Five: Fuchs, Wildschwein, Waschbär, Marder und Kaninchen. Da sie hier kaum Feinde haben, zeigen sie sich gern auch in aller Öffentlichkeit.\n\n\n
SUMMARY:Den Wildtieren auf der Spur
END:VEVENT
END:VCALENDAR
