BEGIN:VCALENDAR
X-WR-TIMEZONE:Europe/Berlin
X-WR-CALNAME:rbb-Kalender
VERSION:2.0
METHOD:PUBLISH
CALSCALE:GREGORIAN
PRODID:rbb-CMS DAY
BEGIN:VEVENT
CLASS:PUBLIC
URL:http://www.rbb-online.de/content/rbb/rbb/zibb/archiv/20140102_1830/neujahrskonzert-swingin-classics.html
DTEND:20140102T192500
DTSTART:20140102T183000
UID:/content/rbb/rbb/zibb/archiv/20140102_1830/neujahrskonzert-swingin-classics
DTSTAMP:20140406T234718
DESCRIPTION:Reporterin Anke Blumenthal berichtet live vom Neujahrskonzert “Swingin Classics”.\n
SUMMARY:Neujahrskonzert "Swingin Classics"
END:VEVENT
END:VCALENDAR
