BEGIN:VCALENDAR
X-WR-TIMEZONE:Europe/Berlin
X-WR-CALNAME:rbb-Kalender
VERSION:2.0
METHOD:PUBLISH
CALSCALE:GREGORIAN
PRODID:rbb-CMS DAY
BEGIN:VEVENT
CLASS:PUBLIC
URL:http://www.rbb-online.de/content/rbb/rbb/zibb/archiv/20140106_1830/bariton.html
DTEND:20140106T192500
DTSTART:20140106T183000
UID:/content/rbb/rbb/zibb/archiv/20140106_1830/bariton
DTSTAMP:20140406T224539
DESCRIPTION:Musiker in S- und U-Bahnen können einem mit ihren verstimmten Instrumenten schon mal mächtig auf den Geist gehen. Wenn aber der weißrussische Bariton Ruslan Chudjakov in der S-Bahn, seine Gitarre streichelt und seine Stimme erhebt, ist es mucksmäuschenstill.\n\n\n
SUMMARY:Der Bariton in der S-Bahn	
END:VEVENT
END:VCALENDAR
