BEGIN:VCALENDAR
X-WR-TIMEZONE:Europe/Berlin
X-WR-CALNAME:rbb-Kalender
VERSION:2.0
METHOD:PUBLISH
CALSCALE:GREGORIAN
PRODID:rbb-CMS DAY
BEGIN:VEVENT
CLASS:PUBLIC
URL:http://www.rbb-online.de/content/rbb/rbb/zibb/archiv/20140106_1830/mars.html
DTEND:20140106T192500
DTSTART:20140106T183000
UID:/content/rbb/rbb/zibb/archiv/20140106_1830/mars
DTSTAMP:20140406T224434
DESCRIPTION:Ein Potsdamer Student will auf den Mars fliegen. 200.000 Menschen hatten sich um ein Ticket beworben, 1.000 von ihnen kamen in die engere Auswahl. Der 25-jährige angehende Filmwissenschaftler Denis will dabei sein, wenn es 2025 mit einer privaten Stiftung zum roten Planeten geht.\n\n\n
SUMMARY:Einmal zum Mars bitte!
END:VEVENT
END:VCALENDAR
