BEGIN:VCALENDAR
X-WR-TIMEZONE:Europe/Berlin
X-WR-CALNAME:rbb-Kalender
VERSION:2.0
METHOD:PUBLISH
CALSCALE:GREGORIAN
PRODID:rbb-CMS DAY
BEGIN:VEVENT
CLASS:PUBLIC
URL:http://www.rbb-online.de/content/rbb/rbb/zibb/archiv/20140106_1830/verkehrsleitstelle.html
DTEND:20140106T192500
DTSTART:20140106T183000
UID:/content/rbb/rbb/zibb/archiv/20140106_1830/verkehrsleitstelle
DTSTAMP:20140406T224520
DESCRIPTION:Im vergangenen Jahr prägten Baustellen und Staus den Berliner Verkehrsalltag – wird sich die Situation 2014 ändern?  Die Mitarbeiter der Berliner Verkehrsleitzentrale im historischen Flughafengebäude in Tempelhof. Wissen, wann es wo in der Stadt hakt.\n\n\n
SUMMARY:zibb zu Besuch in der Verkehrsleitzentrale 
END:VEVENT
END:VCALENDAR
