BEGIN:VCALENDAR
X-WR-TIMEZONE:Europe/Berlin
X-WR-CALNAME:rbb-Kalender
VERSION:2.0
METHOD:PUBLISH
CALSCALE:GREGORIAN
PRODID:rbb-CMS DAY
BEGIN:VEVENT
CLASS:PUBLIC
URL:http://www.rbb-online.de/content/rbb/rbb/zibb/archiv/20140107_1830/feuerteufel.html
DTEND:20140107T192500
DTSTART:20140107T183000
UID:/content/rbb/rbb/zibb/archiv/20140107_1830/feuerteufel
DTSTAMP:20140407T004137
DESCRIPTION:Sechs Großbrände in einem Monat - im Löwenberger Land scheint ein Feuerteufel unterwegs zu sein. Am Sonnabend ging ein abgelegenes Forsthaus in Flammen auf. 50 Kameraden der Freiwilligen Feuerwehr mussten den Brand löschen.\n
SUMMARY:Feuerteufel in Oberhavel 
END:VEVENT
END:VCALENDAR
