BEGIN:VCALENDAR
X-WR-TIMEZONE:Europe/Berlin
X-WR-CALNAME:rbb-Kalender
VERSION:2.0
METHOD:PUBLISH
CALSCALE:GREGORIAN
PRODID:rbb-CMS DAY
BEGIN:VEVENT
CLASS:PUBLIC
URL:http://www.rbb-online.de/content/rbb/rbb/zibb/archiv/20140107_1830/mampehalbundhalb.html
DTEND:20140107T192500
DTSTART:20140107T183000
UID:/content/rbb/rbb/zibb/archiv/20140107_1830/mampehalbundhalb
DTSTAMP:20140407T004214
DESCRIPTION:Vor allem die älteren Berliner kennen es noch: Nach einem guten Essen wurde kein Jägermeister, Averna getrunken, sondern ein Mampe Halb und Halb. Ein echter Berliner Kräuterlikör mit einer leichten Orangen-Note.\n\n\n
SUMMARY:Berliner Schnaps "Mampe" ist wieder da 
END:VEVENT
END:VCALENDAR
