BEGIN:VCALENDAR
X-WR-TIMEZONE:Europe/Berlin
X-WR-CALNAME:rbb-Kalender
VERSION:2.0
METHOD:PUBLISH
CALSCALE:GREGORIAN
PRODID:rbb-CMS DAY
BEGIN:VEVENT
CLASS:PUBLIC
URL:http://www.rbb-online.de/content/rbb/rbb/zibb/archiv/20140107_1830/nichtraucher.html
DTEND:20140107T192500
DTSTART:20140107T183000
UID:/content/rbb/rbb/zibb/archiv/20140107_1830/nichtraucher
DTSTAMP:20140407T004210
DESCRIPTION:Es ist das ewig gleiche Spiel: Zum Jahreswechsel haben sich wieder unzählige Menschen vorgenommen mit dem Rauchen aufzuhören. Welche Erfahrungen in der Vergangenheit mit diesem guten Vorsatz gemacht wurden, zeigen wir in zibb zurück.\n \n
SUMMARY:Endlich Nichtraucher
END:VEVENT
END:VCALENDAR
