BEGIN:VCALENDAR
X-WR-TIMEZONE:Europe/Berlin
X-WR-CALNAME:rbb-Kalender
VERSION:2.0
METHOD:PUBLISH
CALSCALE:GREGORIAN
PRODID:rbb-CMS DAY
BEGIN:VEVENT
CLASS:PUBLIC
URL:http://www.rbb-online.de/content/rbb/rbb/zibb/archiv/20140108_1830/circus.html
DTEND:20140108T192500
DTSTART:20140108T183000
UID:/content/rbb/rbb/zibb/archiv/20140108_1830/circus
DTSTAMP:20140406T233748
DESCRIPTION:Die ARTISTOKRATEN sind zurück und präsentieren ihre neue Show „Winter Circus Wonderland“ im neu eröffneten Pfefferberg-Theater. Die 7-köpfige Crew bietet artistische Höchstleistungen vom Feinsten, zum Lachen und Staunen für Erwachsene und Kinder.\n\n\n\n\n
SUMMARY:Premiere: Winter Circus Wonderland
END:VEVENT
END:VCALENDAR
