BEGIN:VCALENDAR
X-WR-TIMEZONE:Europe/Berlin
X-WR-CALNAME:rbb-Kalender
VERSION:2.0
METHOD:PUBLISH
CALSCALE:GREGORIAN
PRODID:rbb-CMS DAY
BEGIN:VEVENT
CLASS:PUBLIC
URL:http://www.rbb-online.de/content/rbb/rbb/zibb/archiv/20140108_1830/mittenwalde.html
DTEND:20140108T192500
DTSTART:20140108T183000
UID:/content/rbb/rbb/zibb/archiv/20140108_1830/mittenwalde
DTSTAMP:20140406T233715
DESCRIPTION:Werner Winkelmann ist der Ortschronist von Mittenwalde. Er erinnert sich an ungezählte Geschichten der Stadt. Seine besondere Herzensangelegenheit aber sind die Stolpersteine, von denen er bereits zwei initiiert hat.\n\n\n
SUMMARY:Stolpersteine in Mittenwalde
END:VEVENT
END:VCALENDAR
