BEGIN:VCALENDAR
X-WR-TIMEZONE:Europe/Berlin
X-WR-CALNAME:rbb-Kalender
VERSION:2.0
METHOD:PUBLISH
CALSCALE:GREGORIAN
PRODID:rbb-CMS DAY
BEGIN:VEVENT
CLASS:PUBLIC
URL:http://www.rbb-online.de/content/rbb/rbb/zibb/archiv/20140108_1830/problembus.html
DTEND:20140108T192500
DTSTART:20140108T183000
UID:/content/rbb/rbb/zibb/archiv/20140108_1830/problembus
DTSTAMP:20140406T233640
DESCRIPTION:Was für Berlin und Brandenburg der Flughafen BER ist für Neukölln der Problem-Bus M41. Er kommt nie pünktlich, dafür aber dann meist im Dreierpack, brechend voll, und es soll schon Fahrgäste gegeben haben, die sich lieber freiwillig ein Taxi geteilt haben als noch länger zu warten.\n
SUMMARY:Der Problembus M41
END:VEVENT
END:VCALENDAR
