BEGIN:VCALENDAR
X-WR-TIMEZONE:Europe/Berlin
X-WR-CALNAME:rbb-Kalender
VERSION:2.0
METHOD:PUBLISH
CALSCALE:GREGORIAN
PRODID:rbb-CMS DAY
BEGIN:VEVENT
CLASS:PUBLIC
URL:http://www.rbb-online.de/content/rbb/rbb/zibb/archiv/20140109_1830/klausheidi.html
DTEND:20140109T192500
DTSTART:20140109T183000
UID:/content/rbb/rbb/zibb/archiv/20140109_1830/klausheidi
DTSTAMP:20140406T213503
DESCRIPTION:Um auf die neue Direktverbindung Stockholm-Berlin zu bewerben hatte Lufthansa einen besonders schrägen Namenswettbewerb ins Leben gerufen: Ein Jahr kostenlos in Berlin wohnen – dafür musste man nur seinen Namen amtlich in "Klaus Heidi" umändern lassen – und natürlich etwas Glück haben.\n\n\n\n\n
SUMMARY:"Klaus Heidi" ist in Berlin
END:VEVENT
END:VCALENDAR
