BEGIN:VCALENDAR
X-WR-TIMEZONE:Europe/Berlin
X-WR-CALNAME:rbb-Kalender
VERSION:2.0
METHOD:PUBLISH
CALSCALE:GREGORIAN
PRODID:rbb-CMS DAY
BEGIN:VEVENT
CLASS:PUBLIC
URL:http://www.rbb-online.de/content/rbb/rbb/zibb/archiv/20140109_1830/steno.html
DTEND:20140109T192500
DTSTART:20140109T183000
UID:/content/rbb/rbb/zibb/archiv/20140109_1830/steno
DTSTAMP:20140406T213431
DESCRIPTION:Die Kurzschrift Steno ist vom Aussterben bedroht. Kaum noch ein Vorzimmer-Angestellter beherrscht die Haken und Kringel, mit der sich in kürzester Zeit lange Vorträge verschriftlichen lassen. Doch Karin Weiland hat diesem Verfall den Kampf angesagt.\n\n\n\n\n
SUMMARY:Stenographie: das Ende der Kurzschrift? 
END:VEVENT
END:VCALENDAR
