BEGIN:VCALENDAR
X-WR-TIMEZONE:Europe/Berlin
X-WR-CALNAME:rbb-Kalender
VERSION:2.0
METHOD:PUBLISH
CALSCALE:GREGORIAN
PRODID:rbb-CMS DAY
BEGIN:VEVENT
CLASS:PUBLIC
URL:http://www.rbb-online.de/content/rbb/rbb/zibb/archiv/20140110_1830/kackvogel.html
DTEND:20140110T192500
DTSTART:20140110T183000
UID:/content/rbb/rbb/zibb/archiv/20140110_1830/kackvogel
DTSTAMP:20140405T223401
DESCRIPTION:Friedrich Liechtenstein ist derzeit wohl der schillerndste Pfau der Berliner Kulturszene. Der Videoclip "Kackvogel", in dem sich der coole Mittfünfziger durch  seinen Kiez tanzt ist auf youtube 2,5 Millionen Mal angeschaut worden.\n
SUMMARY:Friedrich Liechtensteins Kackvogel
END:VEVENT
END:VCALENDAR
