BEGIN:VCALENDAR
X-WR-TIMEZONE:Europe/Berlin
X-WR-CALNAME:rbb-Kalender
VERSION:2.0
METHOD:PUBLISH
CALSCALE:GREGORIAN
PRODID:rbb-CMS DAY
BEGIN:VEVENT
CLASS:PUBLIC
URL:http://www.rbb-online.de/content/rbb/rbb/zibb/archiv/20140110_1830/schloss-lanke.html
DTEND:20140110T192500
DTSTART:20140110T183000
UID:/content/rbb/rbb/zibb/archiv/20140110_1830/schloss-lanke
DTSTAMP:20140405T223420
DESCRIPTION:Lange stand das Schloss Lanke in Wandlitz leer und verfiel. Bis es 2008 von mehreren Architekten gekauft wurde und seitdem nach und nach denkmalgerecht saniert wird. Die neuen Hausherren leben selbst im Schloss, wollen es auch der Öffentlichkeit nicht vorenthalten.\n\n\n\n\n
SUMMARY:Märchenlesung auf Schloss Lanke
END:VEVENT
END:VCALENDAR
