BEGIN:VCALENDAR
X-WR-TIMEZONE:Europe/Berlin
X-WR-CALNAME:rbb-Kalender
VERSION:2.0
METHOD:PUBLISH
CALSCALE:GREGORIAN
PRODID:rbb-CMS DAY
BEGIN:VEVENT
CLASS:PUBLIC
URL:http://www.rbb-online.de/content/rbb/rbb/zibb/archiv/20140113_1830/Ein-Costa-Concordia-Crewmitglied-erzaehlt.html
DTEND:20140113T192500
DTSTART:20140113T183000
UID:/content/rbb/rbb/zibb/archiv/20140113_1830/Ein-Costa-Concordia-Crewmitglied-erzaehlt
DTSTAMP:20140406T230136
DESCRIPTION:Genau vor zwei Jahren, am 13. Januar 2012, rammte das Kreuzfahrtschiff "Costa Concordia" wenige Meter vor der italienischen Insel Giglio einen Felsen und kenterte. 32 Menschen kamen bei dem Unglück ums Leben, darunter zwölf Deutsche.\n\n\n
SUMMARY:Ein Costa-Concordia-Crewmitglied erzählt
END:VEVENT
END:VCALENDAR
