BEGIN:VCALENDAR
X-WR-TIMEZONE:Europe/Berlin
X-WR-CALNAME:rbb-Kalender
VERSION:2.0
METHOD:PUBLISH
CALSCALE:GREGORIAN
PRODID:rbb-CMS DAY
BEGIN:VEVENT
CLASS:PUBLIC
URL:http://www.rbb-online.de/content/rbb/rbb/zibb/archiv/20140114_1830/Fashion-Week-in-Berlin.html
DTEND:20140114T192500
DTSTART:20140114T183000
UID:/content/rbb/rbb/zibb/archiv/20140114_1830/Fashion-Week-in-Berlin
DTSTAMP:20140406T234836
DESCRIPTION:In Berlin hat heute die traditionelle Modemesse Fashion Week begonnen. Rund 2.500 Aussteller zeigen bis zum Freitag die Trends für den kommenden Herbst und Winter. Wir sind bei zwei Darlings der Szene - den Frauen des Labels "Kaviar Goosch". Sie haben vor zehn Jahren gemeinsam angefangen und sind mittlerweile ein echter Exportschlager. Im Goya am Nollendorfplatz durfte Patrizia Pantel ins Back-Stage.\n
SUMMARY:Fashion Week in Berlin
END:VEVENT
END:VCALENDAR
