BEGIN:VCALENDAR
X-WR-TIMEZONE:Europe/Berlin
X-WR-CALNAME:rbb-Kalender
VERSION:2.0
METHOD:PUBLISH
CALSCALE:GREGORIAN
PRODID:rbb-CMS DAY
BEGIN:VEVENT
CLASS:PUBLIC
URL:http://www.rbb-online.de/content/rbb/rbb/zibb/archiv/20140114_1830/Sesam-oeffne-Dich-Der-Tueroeffner.html
DTEND:20140114T192500
DTSTART:20140114T183000
UID:/content/rbb/rbb/zibb/archiv/20140114_1830/Sesam-oeffne-Dich-Der-Tueroeffner
DTSTAMP:20140406T234910
DESCRIPTION:Es gibt viele Gründe, verzweifelt vor der eigenen Haustür zu stehen. Man hat den Schlüssel vergessen und kommt nicht rein. Oder man hat ihn zwar dabei, aber ist er irgendwo in den Untiefen der Jacke oder Handtasche verborgen. Für all diese Probleme gibt es eine Lösung. Eine Art Sesam öffne Dich aus Berlin. Eine Erfindung, die sogar Leben retten könnte.\n\n\n
SUMMARY:Sesam öffne Dich - Der Türöffner 
END:VEVENT
END:VCALENDAR
