BEGIN:VCALENDAR
X-WR-TIMEZONE:Europe/Berlin
X-WR-CALNAME:rbb-Kalender
VERSION:2.0
METHOD:PUBLISH
CALSCALE:GREGORIAN
PRODID:rbb-CMS DAY
BEGIN:VEVENT
CLASS:PUBLIC
URL:http://www.rbb-online.de/content/rbb/rbb/zibb/archiv/20140114_1830/Tiervermittlung.html
DTEND:20140114T192500
DTSTART:20140114T183000
UID:/content/rbb/rbb/zibb/archiv/20140114_1830/Tiervermittlung
DTSTAMP:20140406T234759
DESCRIPTION:Im Tierschutzliga-Dorf Groß-Döbbern bei Cottbus warten im Moment ca. 150 Hunde und über 300 Katzen auf ein neues Zuhause. Unter den Vermittlungstieren, die hier gelandet sind, sind zur Zeit ungewöhnlich viele reinrassige Hunde und Katzen. Attila Weidemann war dort.\n\n\n
SUMMARY:Tiervermittlung
END:VEVENT
END:VCALENDAR
