BEGIN:VCALENDAR
X-WR-TIMEZONE:Europe/Berlin
X-WR-CALNAME:rbb-Kalender
VERSION:2.0
METHOD:PUBLISH
CALSCALE:GREGORIAN
PRODID:rbb-CMS DAY
BEGIN:VEVENT
CLASS:PUBLIC
URL:http://www.rbb-online.de/content/rbb/rbb/zibb/archiv/20140115_1830/Autounfall-biesdorf.html
DTEND:20140115T192500
DTSTART:20140115T183000
UID:/content/rbb/rbb/zibb/archiv/20140115_1830/Autounfall-biesdorf
DTSTAMP:20140406T233838
DESCRIPTION:Autofahrer stürzt auf Gleise. Gestern Abend in Marzahn/Biesdorf: Ein Autofahrer rammt zwei parkende Autos, der 57jährige durchbricht den Zaun einer Brücke und stürzt in seinem Fahrzeug auf die S-Bahn-Gleise.\n
SUMMARY:Biesdorf: Autofahrer stürzt auf Gleise
END:VEVENT
END:VCALENDAR
