BEGIN:VCALENDAR
X-WR-TIMEZONE:Europe/Berlin
X-WR-CALNAME:rbb-Kalender
VERSION:2.0
METHOD:PUBLISH
CALSCALE:GREGORIAN
PRODID:rbb-CMS DAY
BEGIN:VEVENT
CLASS:PUBLIC
URL:http://www.rbb-online.de/content/rbb/rbb/zibb/archiv/20140115_1830/starker-kerl-schwaches-herz.html
DTEND:20140115T192500
DTSTART:20140115T183000
UID:/content/rbb/rbb/zibb/archiv/20140115_1830/starker-kerl-schwaches-herz
DTSTAMP:20140406T233918
DESCRIPTION:Der ehemalige Kampfsportler Olaf Lehnert sieht aus, als könnte ihm nichts etwas anhaben. Und dennoch zögert er, wenn er z.B. eine Bohrmaschine in die Hand nehmen soll. \n\n\n
SUMMARY:Starker Kerl - schwaches Herz
END:VEVENT
END:VCALENDAR
