BEGIN:VCALENDAR
X-WR-TIMEZONE:Europe/Berlin
X-WR-CALNAME:rbb-Kalender
VERSION:2.0
METHOD:PUBLISH
CALSCALE:GREGORIAN
PRODID:rbb-CMS DAY
BEGIN:VEVENT
CLASS:PUBLIC
URL:http://www.rbb-online.de/content/rbb/rbb/zibb/archiv/20140115_1830/zirkusbuch-manege-frei.html
DTEND:20140115T192500
DTSTART:20140115T183000
UID:/content/rbb/rbb/zibb/archiv/20140115_1830/zirkusbuch-manege-frei
DTSTAMP:20140406T233905
DESCRIPTION:Hereinspaziert, denn die Manege ist frei für einen Blick auf rund 250 Jahre Zirkusgeschichte. Menschen, Tiere, Sensationen bieten der Zirkus und dieses Buch.\n
SUMMARY:Zirkusbuch "Manege frei"
END:VEVENT
END:VCALENDAR
