BEGIN:VCALENDAR
X-WR-TIMEZONE:Europe/Berlin
X-WR-CALNAME:rbb-Kalender
VERSION:2.0
METHOD:PUBLISH
CALSCALE:GREGORIAN
PRODID:rbb-CMS DAY
BEGIN:VEVENT
CLASS:PUBLIC
URL:http://www.rbb-online.de/content/rbb/rbb/zibb/archiv/20140116_1830/designtrends-auf-der-fashion-week.html
DTEND:20140116T192500
DTSTART:20140116T183000
UID:/content/rbb/rbb/zibb/archiv/20140116_1830/designtrends-auf-der-fashion-week
DTSTAMP:20140407T004727
DESCRIPTION:Was sind die Trends von zwei Berliner Designern: Was Machen sie, welche Farben, welche Schnitte. Wir sind für Sie auf der Fashion Week unterwegs.\n
SUMMARY:Designertrends auf der Fashion Week
END:VEVENT
END:VCALENDAR
