BEGIN:VCALENDAR
X-WR-TIMEZONE:Europe/Berlin
X-WR-CALNAME:rbb-Kalender
VERSION:2.0
METHOD:PUBLISH
CALSCALE:GREGORIAN
PRODID:rbb-CMS DAY
BEGIN:VEVENT
CLASS:PUBLIC
URL:http://www.rbb-online.de/content/rbb/rbb/zibb/archiv/20140116_1830/nach-dem-hochwasser.html
DTEND:20140116T192500
DTSTART:20140116T183000
UID:/content/rbb/rbb/zibb/archiv/20140116_1830/nach-dem-hochwasser
DTSTAMP:20140407T004837
DESCRIPTION:Wie geht es den Menschen nach dem Hochwasser und wie groß sind ihre Schäden? zibb auf dem Weg ins Elbe-Havel-Dreieck.\n\n\n\n\n
SUMMARY:Ein halbes Jahr nach dem Hochwasser....
END:VEVENT
END:VCALENDAR
