BEGIN:VCALENDAR
X-WR-TIMEZONE:Europe/Berlin
X-WR-CALNAME:rbb-Kalender
VERSION:2.0
METHOD:PUBLISH
CALSCALE:GREGORIAN
PRODID:rbb-CMS DAY
BEGIN:VEVENT
CLASS:PUBLIC
URL:http://www.rbb-online.de/content/rbb/rbb/zibb/archiv/20140117_1830/kuendigung-am-geburtstag.html
DTEND:20140117T192500
DTSTART:20140117T183000
UID:/content/rbb/rbb/zibb/archiv/20140117_1830/kuendigung-am-geburtstag
DTSTAMP:20140406T221711
DESCRIPTION:Das Zuhause von Anni Lenz ist die Siedlung Am Steinberg in Tegel. Hier lebt sie seit mehr als 60 Jahren.\n
SUMMARY:Eine Kündigung zum 93. Geburtstag!
END:VEVENT
END:VCALENDAR
