BEGIN:VCALENDAR
X-WR-TIMEZONE:Europe/Berlin
X-WR-CALNAME:rbb-Kalender
VERSION:2.0
METHOD:PUBLISH
CALSCALE:GREGORIAN
PRODID:rbb-CMS DAY
BEGIN:VEVENT
CLASS:PUBLIC
URL:http://www.rbb-online.de/content/rbb/rbb/zibb/archiv/20140120_1830/abbado.html
DTEND:20140120T192500
DTSTART:20140120T183000
UID:/content/rbb/rbb/zibb/archiv/20140120_1830/abbado
DTSTAMP:20140406T225340
DESCRIPTION:Claudio Abbado war einer der bedeutendsten Dirigenten unserer Zeit, zwölf Jahre lang stand er auch den Berliner Philharmonikern vor. Im Alter von 80 Jahren ist er nun in Bologna gestorben.\n\n\n\n\n
SUMMARY:Star Dirigent Abbado gestorben
END:VEVENT
END:VCALENDAR
