BEGIN:VCALENDAR
X-WR-TIMEZONE:Europe/Berlin
X-WR-CALNAME:rbb-Kalender
VERSION:2.0
METHOD:PUBLISH
CALSCALE:GREGORIAN
PRODID:rbb-CMS DAY
BEGIN:VEVENT
CLASS:PUBLIC
URL:http://www.rbb-online.de/content/rbb/rbb/zibb/archiv/20140120_1830/jogginghose.html
DTEND:20140120T192500
DTSTART:20140120T183000
UID:/content/rbb/rbb/zibb/archiv/20140120_1830/jogginghose
DTSTAMP:20140406T225416
DESCRIPTION:Am Montag war der nationale Tag der Jogginghose. Seltsamerweise tragen heutzutage eher faule Couchpotatoes als sportliche Jogger diese Hosen. Für wen und wozu wurden Jogginghosen gefertigt, und warum wird in ihr mehr gegammelt als gejoggt? Zibb blickt zurück.\n
SUMMARY:Tag der Jogginghose
END:VEVENT
END:VCALENDAR
