BEGIN:VCALENDAR
X-WR-TIMEZONE:Europe/Berlin
X-WR-CALNAME:rbb-Kalender
VERSION:2.0
METHOD:PUBLISH
CALSCALE:GREGORIAN
PRODID:rbb-CMS DAY
BEGIN:VEVENT
CLASS:PUBLIC
URL:http://www.rbb-online.de/content/rbb/rbb/zibb/archiv/20140120_1830/raumsonde.html
DTEND:20140120T192500
DTSTART:20140120T183000
UID:/content/rbb/rbb/zibb/archiv/20140120_1830/raumsonde
DTSTAMP:20140406T225426
DESCRIPTION:Heute wurde die Raumsonde "Rosetta" aus ihrem fast 3 Jahre währenden Flugschlaf geweckt - 40 Millionen Kilometer von der Erde entfernt. Nun soll sie als erstes unbemanntes Raumschiff einen Kometen umkreisen und erkunden.\n\n\n
SUMMARY:Raumsonde "Rosetta" beim Kometen
END:VEVENT
END:VCALENDAR
