BEGIN:VCALENDAR
X-WR-TIMEZONE:Europe/Berlin
X-WR-CALNAME:rbb-Kalender
VERSION:2.0
METHOD:PUBLISH
CALSCALE:GREGORIAN
PRODID:rbb-CMS DAY
BEGIN:VEVENT
CLASS:PUBLIC
URL:http://www.rbb-online.de/content/rbb/rbb/zibb/archiv/20140121_1830/blitzeis.html
DTEND:20140121T192500
DTSTART:20140121T183000
UID:/content/rbb/rbb/zibb/archiv/20140121_1830/blitzeis
DTSTAMP:20140407T004101
DESCRIPTION:Die ersten herrlichen Schneeflocken in diesem Jahr! Endlich Winter, doch das hat auch unschöne Folgen: Blitzeis und Schnee sorgen für gefährliche Rutschparien. So wie im Straussberger Krankenhaus sind die Notaufnahmen voll mit Patienten, die auf glatten Wegen ausgerutscht sind.\n\n\n
SUMMARY:Viele Glätte-Unfälle in Berlin und Brandenburg
END:VEVENT
END:VCALENDAR
