BEGIN:VCALENDAR
X-WR-TIMEZONE:Europe/Berlin
X-WR-CALNAME:rbb-Kalender
VERSION:2.0
METHOD:PUBLISH
CALSCALE:GREGORIAN
PRODID:rbb-CMS DAY
BEGIN:VEVENT
CLASS:PUBLIC
URL:http://www.rbb-online.de/content/rbb/rbb/zibb/archiv/20140121_1830/singlebrse.html
DTEND:20140121T192500
DTSTART:20140121T183000
UID:/content/rbb/rbb/zibb/archiv/20140121_1830/singlebrse
DTSTAMP:20140407T004021
DESCRIPTION:"Im Gegenteil" - das ist eine ganz besondere Single-Börse, die zwei Berlinerinnen auf die Beine gestellt haben. Sie kommt wie ein Online-Magazin daher und stellt Singles so dar, wie sie eben sind - mit coolen Fotos und Geschichten aus deren Leben.\n\n\n\n\n
SUMMARY:Singlebörse mal anders
END:VEVENT
END:VCALENDAR
