BEGIN:VCALENDAR
X-WR-TIMEZONE:Europe/Berlin
X-WR-CALNAME:rbb-Kalender
VERSION:2.0
METHOD:PUBLISH
CALSCALE:GREGORIAN
PRODID:rbb-CMS DAY
BEGIN:VEVENT
CLASS:PUBLIC
URL:http://www.rbb-online.de/content/rbb/rbb/zibb/archiv/20140121_1830/tape-art.html
DTEND:20140121T192500
DTSTART:20140121T183000
UID:/content/rbb/rbb/zibb/archiv/20140121_1830/tape-art
DTSTAMP:20140407T004013
DESCRIPTION:Die sogenannte „Klebebande“ besteht aus den Mitgliedern Bruno Kolberg (36), Bodo Höbing (36) und Nikolaj Bultmann (34). Die drei erfolgreichen Berliner sind Vorreiter einer neuen Kunstform und entwerfen aus Tape spektakuläre Bilder. Sie reisen damit durch ganz Europa und zu ihren Kunden zählen mittlerweile auch Microsoft, Google und Sony.\n\n\n\n\n
SUMMARY:Kunst der Klebebande
END:VEVENT
END:VCALENDAR
