BEGIN:VCALENDAR
X-WR-TIMEZONE:Europe/Berlin
X-WR-CALNAME:rbb-Kalender
VERSION:2.0
METHOD:PUBLISH
CALSCALE:GREGORIAN
PRODID:rbb-CMS DAY
BEGIN:VEVENT
CLASS:PUBLIC
URL:http://www.rbb-online.de/content/rbb/rbb/zibb/archiv/20140124_1830/wo-die-gagausen-wohnen.html
DTEND:20140124T192500
DTSTART:20140124T183000
UID:/content/rbb/rbb/zibb/archiv/20140124_1830/wo-die-gagausen-wohnen
DTSTAMP:20140406T221859
DESCRIPTION:Gagausen, noch nie gehört? Ging uns ähnlich. Und einem rbb Team auch. Sie haben das zum Anlass genommen und wollten die Gagausen kennen lernen.\n\n\n
SUMMARY:Wo die Gagausen wohnen
END:VEVENT
END:VCALENDAR
