BEGIN:VCALENDAR
X-WR-TIMEZONE:Europe/Berlin
X-WR-CALNAME:rbb-Kalender
VERSION:2.0
METHOD:PUBLISH
CALSCALE:GREGORIAN
PRODID:rbb-CMS DAY
BEGIN:VEVENT
CLASS:PUBLIC
URL:http://www.rbb-online.de/content/rbb/rbb/zibb/archiv/20140127_1830/eisflaeche.html
DTEND:20140127T192500
DTSTART:20140127T183000
UID:/content/rbb/rbb/zibb/archiv/20140127_1830/eisflaeche
DTSTAMP:20140406T201149
DESCRIPTION:Lebensgefahr auf dem Eis. Nach den kalten Temperaturen der vergangenen Tage sind viele Seen der Region zugefroren, vielerorts sieht man sogar schon Schlittschuhläufer auf dem Eis. Doch Vorsicht! Die DLRG warnt vor dem Betreten der Eisflächen.\n\n\n
SUMMARY:Lebensgefahr auf Eisflächen
END:VEVENT
END:VCALENDAR
