BEGIN:VCALENDAR
X-WR-TIMEZONE:Europe/Berlin
X-WR-CALNAME:rbb-Kalender
VERSION:2.0
METHOD:PUBLISH
CALSCALE:GREGORIAN
PRODID:rbb-CMS DAY
BEGIN:VEVENT
CLASS:PUBLIC
URL:http://www.rbb-online.de/content/rbb/rbb/zibb/archiv/20140127_1830/muell.html
DTEND:20140127T192500
DTSTART:20140127T183000
UID:/content/rbb/rbb/zibb/archiv/20140127_1830/muell
DTSTAMP:20140406T201207
DESCRIPTION:Die Straßen Berlins versinken in Kaffeebechern, Pizzakartons und Dönerpapier – für die Entsorgung des so genannten "to-go Mülls" zahlen nicht etwa die Verursacher, sondern seit dem ersten Januar die ahnungslosen Anlieger.  \n\n\n
SUMMARY:Müll to go
END:VEVENT
END:VCALENDAR
