BEGIN:VCALENDAR
X-WR-TIMEZONE:Europe/Berlin
X-WR-CALNAME:rbb-Kalender
VERSION:2.0
METHOD:PUBLISH
CALSCALE:GREGORIAN
PRODID:rbb-CMS DAY
BEGIN:VEVENT
CLASS:PUBLIC
URL:http://www.rbb-online.de/content/rbb/rbb/zibb/archiv/20140127_1830/oma.html
DTEND:20140127T192500
DTSTART:20140127T183000
UID:/content/rbb/rbb/zibb/archiv/20140127_1830/oma
DTSTAMP:20140406T201300
DESCRIPTION:Für Rentnerin Bärbel Strauch war es ein Einschnitt als plötzlich eine Familie aus Angola über ihr einzog. Der Ludwigsfelderin schossen sämtliche Vorurteile durch den Kopf. Vor allem aber ahnte sie, dass es von nun an laut über ihr werden würde. \n\n\n
SUMMARY:Die Oma von nebenan
END:VEVENT
END:VCALENDAR
