BEGIN:VCALENDAR
X-WR-TIMEZONE:Europe/Berlin
X-WR-CALNAME:rbb-Kalender
VERSION:2.0
METHOD:PUBLISH
CALSCALE:GREGORIAN
PRODID:rbb-CMS DAY
BEGIN:VEVENT
CLASS:PUBLIC
URL:http://www.rbb-online.de/content/rbb/rbb/zibb/archiv/20140129_1830/auftakt_beim_winterschlussverkauf.html
DTEND:20140129T192500
DTSTART:20140129T183000
UID:/content/rbb/rbb/zibb/archiv/20140129_1830/auftakt_beim_winterschlussverkauf
DTSTAMP:20140406T235030
DESCRIPTION:Viele Berliner und Brandenburger sind am Montag auf Schnäppchenjagd gegangen. Weil der Winter bislang mild war, gibt es in diesem Jahr noch besonders viel aus Lagerbeständen zu kaufen. Schnee und Eis kämen nun den Händlern gerade recht, hieß es vom regionalen Handelsverband.\n\n\n
SUMMARY:Auftakt beim Winterschlussverkauf
END:VEVENT
END:VCALENDAR
